BEGIN:VCALENDAR
VERSION:2.0
PRODID:-//The Bankruptcy Bar Association Southern District of Florida - ECPv6.15.20//NONSGML v1.0//EN
CALSCALE:GREGORIAN
METHOD:PUBLISH
X-ORIGINAL-URL:https://bbasdfl.org
X-WR-CALDESC:Events for The Bankruptcy Bar Association Southern District of Florida
REFRESH-INTERVAL;VALUE=DURATION:PT1H
X-Robots-Tag:noindex
X-PUBLISHED-TTL:PT1H
BEGIN:VTIMEZONE
TZID:America/New_York
BEGIN:DAYLIGHT
TZOFFSETFROM:-0500
TZOFFSETTO:-0400
TZNAME:EDT
DTSTART:20230312T070000
END:DAYLIGHT
BEGIN:STANDARD
TZOFFSETFROM:-0400
TZOFFSETTO:-0500
TZNAME:EST
DTSTART:20231105T060000
END:STANDARD
BEGIN:DAYLIGHT
TZOFFSETFROM:-0500
TZOFFSETTO:-0400
TZNAME:EDT
DTSTART:20240310T070000
END:DAYLIGHT
BEGIN:STANDARD
TZOFFSETFROM:-0400
TZOFFSETTO:-0500
TZNAME:EST
DTSTART:20241103T060000
END:STANDARD
BEGIN:DAYLIGHT
TZOFFSETFROM:-0500
TZOFFSETTO:-0400
TZNAME:EDT
DTSTART:20250309T070000
END:DAYLIGHT
BEGIN:STANDARD
TZOFFSETFROM:-0400
TZOFFSETTO:-0500
TZNAME:EST
DTSTART:20251102T060000
END:STANDARD
END:VTIMEZONE
BEGIN:VEVENT
DTSTART;TZID=America/New_York:20240430T183000
DTEND;TZID=America/New_York:20240430T193000
DTSTAMP:20260423T080932
CREATED:20240424T161333Z
LAST-MODIFIED:20240426T180324Z
UID:10000040-1714501800-1714505400@bbasdfl.org
SUMMARY:Exhale 2024 Yoga  Event
DESCRIPTION:
URL:https://bbasdfl.org/event/exhale-2024-yoga-event/
LOCATION:OM Movement\, 2895 McFarlane Rd 2nd floor\, Miami\, FL\, 33133\, United States
CATEGORIES:MISC
ATTACH;FMTTYPE=image/png:https://bbasdfl.org/wp-content/uploads/2024/04/April-30th-Yoga-2.png
END:VEVENT
END:VCALENDAR