BEGIN:VCALENDAR
VERSION:2.0
PRODID:-//The Bankruptcy Bar Association Southern District of Florida - ECPv6.15.20//NONSGML v1.0//EN
CALSCALE:GREGORIAN
METHOD:PUBLISH
X-WR-CALNAME:The Bankruptcy Bar Association Southern District of Florida
X-ORIGINAL-URL:https://bbasdfl.org
X-WR-CALDESC:Events for The Bankruptcy Bar Association Southern District of Florida
REFRESH-INTERVAL;VALUE=DURATION:PT1H
X-Robots-Tag:noindex
X-PUBLISHED-TTL:PT1H
BEGIN:VTIMEZONE
TZID:America/New_York
BEGIN:DAYLIGHT
TZOFFSETFROM:-0500
TZOFFSETTO:-0400
TZNAME:EDT
DTSTART:20240310T070000
END:DAYLIGHT
BEGIN:STANDARD
TZOFFSETFROM:-0400
TZOFFSETTO:-0500
TZNAME:EST
DTSTART:20241103T060000
END:STANDARD
BEGIN:DAYLIGHT
TZOFFSETFROM:-0500
TZOFFSETTO:-0400
TZNAME:EDT
DTSTART:20250309T070000
END:DAYLIGHT
BEGIN:STANDARD
TZOFFSETFROM:-0400
TZOFFSETTO:-0500
TZNAME:EST
DTSTART:20251102T060000
END:STANDARD
BEGIN:DAYLIGHT
TZOFFSETFROM:-0500
TZOFFSETTO:-0400
TZNAME:EDT
DTSTART:20260308T070000
END:DAYLIGHT
BEGIN:STANDARD
TZOFFSETFROM:-0400
TZOFFSETTO:-0500
TZNAME:EST
DTSTART:20261101T060000
END:STANDARD
END:VTIMEZONE
BEGIN:VEVENT
DTSTART;TZID=America/New_York:20251114T120000
DTEND;TZID=America/New_York:20251114T130000
DTSTAMP:20260423T025010
CREATED:20251114T172407Z
LAST-MODIFIED:20260109T162627Z
UID:10000072-1763121600-1763125200@bbasdfl.org
SUMMARY:Pro Se Clinic
DESCRIPTION:Register HERE.
URL:https://bbasdfl.org/event/pro-se-clinic-16-4/2025-11-14/
LOCATION:FL
CATEGORIES:MISC
END:VEVENT
BEGIN:VEVENT
DTSTART;TZID=America/New_York:20251114T120000
DTEND;TZID=America/New_York:20251114T130000
DTSTAMP:20260423T025010
CREATED:20250110T182403Z
LAST-MODIFIED:20260109T162023Z
UID:10000137-1763121600-1763125200@bbasdfl.org
SUMMARY:Pro Se Clinic
DESCRIPTION:Register HERE.
URL:https://bbasdfl.org/event/pro-se-clinic-16/2025-11-14/
LOCATION:FL
CATEGORIES:MISC
END:VEVENT
BEGIN:VEVENT
DTSTART;TZID=America/New_York:20251110T123000
DTEND;TZID=America/New_York:20251110T133000
DTSTAMP:20260423T025010
CREATED:20251103T230716Z
LAST-MODIFIED:20251110T171642Z
UID:10000107-1762777800-1762781400@bbasdfl.org
SUMMARY:Broward College (North Campus) – BBA Financial Literacy presentation
DESCRIPTION:All Financial Literacy resources and contact information can be found here.
URL:https://bbasdfl.org/event/broward-college-north-campus-finlit2025/
LOCATION:Broward College – North Campus\, 1000 Coconut Creek Blvd\, Coconut Creek\, FL\, 33066\, United States
CATEGORIES:MISC
END:VEVENT
BEGIN:VEVENT
DTSTART;TZID=America/New_York:20251107T080000
DTEND;TZID=America/New_York:20251107T123000
DTSTAMP:20260423T025010
CREATED:20250616T154153Z
LAST-MODIFIED:20251010T154142Z
UID:10000092-1762502400-1762518600@bbasdfl.org
SUMMARY:The Judge Michael G. Williamson View from the Florida Bankruptcy Bench\, Miami
DESCRIPTION:In-person live event only. There will be no aftermarket or recording of this program. \nREGISTER HERE: https://member.floridabar.org/s/lt-event?id=a1RWQ00000H1tOr2AJ \nBusiness Law Section member – $395\nNon-section member – $465\nFull-time law college faculty/student – $275\nFee waiver – $0** (Requires discount code)\n** Must meet qualifications. For more information\, email accounting@floridabar.org.  \nCourse classification: Intermediate\nCLER Program (max credit: 4.5 hours)\nGeneral: 4.5 hours\nEthics: 1.0 hours\nCertification Program (max credit: 4.5 hours)\nBusiness Litigation: 4.5 hours\nFor more information about CLER/Certification requirements\, click here.
URL:https://bbasdfl.org/event/save-the-date-the-judge-michael-g-williamson-view-from-the-florida-bankruptcy-bench-miami/
LOCATION:Akerman LLP\, 98 SE 7th St #1100\, Miami\, FL\, 33131\, United States
END:VEVENT
BEGIN:VEVENT
DTSTART;TZID=America/New_York:20251106T173000
DTEND;TZID=America/New_York:20251106T203000
DTSTAMP:20260423T025010
CREATED:20250616T153016Z
LAST-MODIFIED:20250905T020814Z
UID:10000091-1762450200-1762461000@bbasdfl.org
SUMMARY:The Judge Michael G. Williamson View from the Florida Bankruptcy Bench Reception and Judges Dinner
DESCRIPTION:
URL:https://bbasdfl.org/event/the-judge-michael-g-williamson-view-from-the-florida-bankruptcy-bench-reception-and-judges-dinner-3/
LOCATION:Joe’s Stone Crab\, 11 Washington Ave\, Miami Beach\, FL\, 33139\, United States
ATTACH;FMTTYPE=image/png:https://bbasdfl.org/wp-content/uploads/2025/06/VFTB-Dinner-Invite-11.6.2025.png
END:VEVENT
BEGIN:VEVENT
DTSTART;TZID=America/New_York:20251105T123000
DTEND;TZID=America/New_York:20251105T133000
DTSTAMP:20260423T025010
CREATED:20251118T230349Z
LAST-MODIFIED:20251110T181817Z
UID:10000105-1762345800-1762349400@bbasdfl.org
SUMMARY:Broward College (South Campus) – BBA Financial Literacy presentation
DESCRIPTION:All Financial Literacy resources and contact information can be found here.
URL:https://bbasdfl.org/event/broward-college-south-campus-bba-financial-literacy-presentation/
LOCATION:Broward College – South Campus\, 7200 Pines Blvd\, Pembroke Pines\, FL\, 33024\, United States
END:VEVENT
BEGIN:VEVENT
DTSTART;TZID=America/New_York:20251022T180000
DTEND;TZID=America/New_York:20251022T200000
DTSTAMP:20260423T025010
CREATED:20251010T191604Z
LAST-MODIFIED:20251017T182817Z
UID:10000096-1761156000-1761163200@bbasdfl.org
SUMMARY:BBA Happy Hour at Claudie
DESCRIPTION:
URL:https://bbasdfl.org/event/bba-happy-hour-at-claudie/
LOCATION:Claudie\, 1101 Brickell Ave S-113\, Miami\, FL\, 33131\, United States
ATTACH;FMTTYPE=image/png:https://bbasdfl.org/wp-content/uploads/2025/10/BBA-Happy-Hour-10.22.2025.png
END:VEVENT
BEGIN:VEVENT
DTSTART;TZID=America/New_York:20251010T120000
DTEND;TZID=America/New_York:20251010T130000
DTSTAMP:20260423T025010
CREATED:20250110T182403Z
LAST-MODIFIED:20260109T162023Z
UID:10000071-1760097600-1760101200@bbasdfl.org
SUMMARY:Pro Se Clinic
DESCRIPTION:Register HERE.
URL:https://bbasdfl.org/event/pro-se-clinic-16/2025-10-10/
LOCATION:FL
CATEGORIES:MISC
END:VEVENT
BEGIN:VEVENT
DTSTART;TZID=America/New_York:20250912T120000
DTEND;TZID=America/New_York:20250912T130000
DTSTAMP:20260423T025010
CREATED:20250110T182403Z
LAST-MODIFIED:20260109T162023Z
UID:10000070-1757678400-1757682000@bbasdfl.org
SUMMARY:Pro Se Clinic
DESCRIPTION:Register HERE.
URL:https://bbasdfl.org/event/pro-se-clinic-16/2025-09-12/
LOCATION:FL
CATEGORIES:MISC
END:VEVENT
BEGIN:VEVENT
DTSTART;TZID=America/New_York:20250904T180000
DTEND;TZID=America/New_York:20250904T210000
DTSTAMP:20260423T025010
CREATED:20250721T145031Z
LAST-MODIFIED:20250905T021631Z
UID:10000094-1757008800-1757019600@bbasdfl.org
SUMMARY:BBA Installation Dinner
DESCRIPTION:Please note that the garage for this venue uses the ParkMobile app for payments so we advise guests to have the app downloaded on their smartphones prior to arriving. Further parking instructions linked here. \nThe Fort Lauderdale Brightline station is also a convenient 2-minute Uber/Lyft ride from the venue. For more information\, you can visit the Brightline website here.
URL:https://bbasdfl.org/event/bba-installation-dinner-2/
LOCATION:Broward Center for the Performing Arts\, 201 SW 5th Ave\, Fort Lauderdale\, FL\, 33312\, United States
ATTACH;FMTTYPE=image/png:https://bbasdfl.org/wp-content/uploads/2025/07/BBA-Installation-Dinner-2024-5.png
END:VEVENT
BEGIN:VEVENT
DTSTART;TZID=America/New_York:20250811T120000
DTEND;TZID=America/New_York:20250811T130000
DTSTAMP:20260423T025010
CREATED:20250708T193227Z
LAST-MODIFIED:20250709T155914Z
UID:10000093-1754913600-1754917200@bbasdfl.org
SUMMARY:BBA Brown Bag: Trustee Roles
DESCRIPTION:Register HERE.
URL:https://bbasdfl.org/event/bba-brown-bag-trustee-roles/
LOCATION:FL
ATTACH;FMTTYPE=image/png:https://bbasdfl.org/wp-content/uploads/2025/07/BBA-Brown-Bag-Trustee-Roles-1.png
END:VEVENT
BEGIN:VEVENT
DTSTART;TZID=America/New_York:20250808T120000
DTEND;TZID=America/New_York:20250808T130000
DTSTAMP:20260423T025010
CREATED:20250110T182403Z
LAST-MODIFIED:20260109T162023Z
UID:10000069-1754654400-1754658000@bbasdfl.org
SUMMARY:Pro Se Clinic
DESCRIPTION:Register HERE.
URL:https://bbasdfl.org/event/pro-se-clinic-16/2025-08-08/
LOCATION:FL
CATEGORIES:MISC
END:VEVENT
BEGIN:VEVENT
DTSTART;TZID=America/New_York:20250711T120000
DTEND;TZID=America/New_York:20250711T130000
DTSTAMP:20260423T025010
CREATED:20250110T182403Z
LAST-MODIFIED:20260109T162023Z
UID:10000068-1752235200-1752238800@bbasdfl.org
SUMMARY:Pro Se Clinic
DESCRIPTION:Register HERE.
URL:https://bbasdfl.org/event/pro-se-clinic-16/2025-07-11/
LOCATION:FL
CATEGORIES:MISC
END:VEVENT
BEGIN:VEVENT
DTSTART;TZID=America/New_York:20250613T120000
DTEND;TZID=America/New_York:20250613T130000
DTSTAMP:20260423T025010
CREATED:20250110T182403Z
LAST-MODIFIED:20260109T162023Z
UID:10000067-1749816000-1749819600@bbasdfl.org
SUMMARY:Pro Se Clinic
DESCRIPTION:Register HERE.
URL:https://bbasdfl.org/event/pro-se-clinic-16/2025-06-13/
LOCATION:FL
CATEGORIES:MISC
END:VEVENT
BEGIN:VEVENT
DTSTART;TZID=America/New_York:20250612T110000
DTEND;TZID=America/New_York:20250612T120000
DTSTAMP:20260423T025010
CREATED:20250220T180046Z
LAST-MODIFIED:20250220T180046Z
UID:10000082-1749726000-1749729600@bbasdfl.org
SUMMARY:Arc Broward - BBA Financial Literacy presentation
DESCRIPTION:**Parking lot (free) in front of teaching location**\nLocated across the street from the railroad track in the same shopping center as Hart to Hart Dental\, right next to it. \nAll Financial Literacy resources and contact information can be found here.
URL:https://bbasdfl.org/event/arc-broward-bba-financial-literacy-presentation-4/
LOCATION:Arc Works\, 3415 N. Dixie Hwy.\, Oakland Park\, FL\, 33334\, United States
END:VEVENT
BEGIN:VEVENT
DTSTART;TZID=America/New_York:20250611T120000
DTEND;TZID=America/New_York:20250611T130000
DTSTAMP:20260423T025010
CREATED:20250220T232235Z
LAST-MODIFIED:20250404T143821Z
UID:10000083-1749643200-1749646800@bbasdfl.org
SUMMARY:BBA Brown Bag: Subchapter V Chapter 11 Best Practices
DESCRIPTION:Register HERE.
URL:https://bbasdfl.org/event/bba-brown-bag-subchapter-v-chapter-11-best-practices/
LOCATION:FL
CATEGORIES:Webinar
ATTACH;FMTTYPE=image/png:https://bbasdfl.org/wp-content/uploads/2025/02/BBA-Brown-Bag-Subchapter-V-Chapter-11-Best-Practices-4.png
END:VEVENT
BEGIN:VEVENT
DTSTART;VALUE=DATE:20250529
DTEND;VALUE=DATE:20250602
DTSTAMP:20260423T025010
CREATED:20240816T200000Z
LAST-MODIFIED:20250529T215122Z
UID:10000045-1748476800-1748822399@bbasdfl.org
SUMMARY:2025 BBA Annual Retreat
DESCRIPTION:2025 41st Annual BBA Retreat\n“All Florida Judges”\nThursday\, May 29 – Sunday\, June 1\nJW Marriott Marco Island Beach Resort\nAttire: Resort Chic \n\nRetreat Agenda\nVisiting Judges\nCLE Problems\n\nAdditional Details: \n\nFor questions on billing/booking needs\, please reach out to Group Housing Billing Coordinator Sarah Middleton\, sarah.middleton@marriott.com.\nGolf at The Rookery or Hammock Bay:\nFor those interested in golf\, please reach out to Brandon Rowcliffe\, our Group Golf Coordinator\, at brandon.rowcliffe@marriott.com.\nSpecial Offer for BBA Attendees: Enjoy a 20% discount on both group and individual golf play.\nSpa Services:\nPamper yourself at the spa with the help of Nicole Braunstein\, Spa Manager\, at nicole.braunstein@marriott.com.\nBBA Attendees Receive: A 10% discount on all spa services.\nRecreation & Activities:\nFor beach activities\, cabanas\, chickee hut reservations\, premium pool chair seating\, sailboat rentals\, or children’s activities\, please contact Chris Mendicino\, Recreation Coordinator\, at chris.mendicino@marriott.com.\nParking Discounts:\nOvernight guests can enjoy discounted self-parking at $15.00 per night.\nValet parking is available at a discounted rate of $35.00 for both overnight and day guests.\nResort Map
URL:https://bbasdfl.org/event/41st-annual-bba-retreat-the-first-ever-to-be-all-florida-judges/
LOCATION:JW Marriott Marco Island Beach Resort\, 400 S. Collier Blvd\, Marco Island\, FL\, 34145\, United States
CATEGORIES:MISC
ATTACH;FMTTYPE=image/png:https://bbasdfl.org/wp-content/uploads/2025/05/2025-retreat-invitation-final-1-scaled.png
END:VEVENT
BEGIN:VEVENT
DTSTART;TZID=America/New_York:20250512T120000
DTEND;TZID=America/New_York:20250512T133000
DTSTAMP:20260423T025010
CREATED:20250401T170539Z
LAST-MODIFIED:20250409T154751Z
UID:10000089-1747051200-1747056600@bbasdfl.org
SUMMARY:BBA Brown Bag: Legal Writing Panel
DESCRIPTION:Register HERE.
URL:https://bbasdfl.org/event/bba-brown-bag-legal-writing-panel/
LOCATION:FL
CATEGORIES:Webinar
ATTACH;FMTTYPE=image/png:https://bbasdfl.org/wp-content/uploads/2025/04/BBA-Brown-Bag-Panel-Legal-Writing-New-Date.png
END:VEVENT
BEGIN:VEVENT
DTSTART;TZID=America/New_York:20250509T120000
DTEND;TZID=America/New_York:20250509T130000
DTSTAMP:20260423T025010
CREATED:20250110T182403Z
LAST-MODIFIED:20260109T162023Z
UID:10000066-1746792000-1746795600@bbasdfl.org
SUMMARY:Pro Se Clinic
DESCRIPTION:Register HERE.
URL:https://bbasdfl.org/event/pro-se-clinic-16/2025-05-09/
LOCATION:FL
CATEGORIES:MISC
END:VEVENT
BEGIN:VEVENT
DTSTART;TZID=America/New_York:20250508T180000
DTEND;TZID=America/New_York:20250508T200000
DTSTAMP:20260423T025010
CREATED:20250410T141046Z
LAST-MODIFIED:20250508T171859Z
UID:10000090-1746727200-1746734400@bbasdfl.org
SUMMARY:BBA Happy Hour - Tulum Rooftop Bar at The W Brickell
DESCRIPTION:
URL:https://bbasdfl.org/event/bba-happy-hour-tulum-rooftop-bar-at-the-w-brickell/
LOCATION:Tulum Rooftop Bar\, 485 Brickell Ave\, Miami\, FL\, 33131\, United States
CATEGORIES:Happy Hour
ATTACH;FMTTYPE=image/png:https://bbasdfl.org/wp-content/uploads/2025/04/BBA-Happy-Hour-The-W-1.png
END:VEVENT
BEGIN:VEVENT
DTSTART;TZID=America/New_York:20250430T120000
DTEND;TZID=America/New_York:20250430T130000
DTSTAMP:20260423T025010
CREATED:20250312T172118Z
LAST-MODIFIED:20250312T172118Z
UID:10000086-1746014400-1746018000@bbasdfl.org
SUMMARY:BBA and the University of Miami Center for Ethics and Public Service Brown Bag
DESCRIPTION:
URL:https://bbasdfl.org/event/bba-and-the-university-of-miami-center-for-ethics-and-public-service-brown-bag-2/
LOCATION:United States Bankruptcy Court\, C. Clyde Atkins United States Courthouse\, 301 N. Miami Avenue\, Miami\, FL\, 33128\, United States
ATTACH;FMTTYPE=image/png:https://bbasdfl.org/wp-content/uploads/2025/03/Ethics-Public-Service-BBA-Flyer-Final.png
END:VEVENT
BEGIN:VEVENT
DTSTART;TZID=America/New_York:20250417T173000
DTEND;TZID=America/New_York:20250417T193000
DTSTAMP:20260423T025010
CREATED:20250327T181837Z
LAST-MODIFIED:20250327T181837Z
UID:10000088-1744911000-1744918200@bbasdfl.org
SUMMARY:BBA Happy Hour - The Wilder
DESCRIPTION:
URL:https://bbasdfl.org/event/bba-happy-hour-the-wilder-3/
LOCATION:The Wilder\, 701 E Broward Blvd\, Fort Lauderdale\, FL\, 33301\, United States
CATEGORIES:Happy Hour
ATTACH;FMTTYPE=image/png:https://bbasdfl.org/wp-content/uploads/2025/03/BBA-Happy-Hour-The-Wilder-April-1.png
END:VEVENT
BEGIN:VEVENT
DTSTART;TZID=America/New_York:20250411T120000
DTEND;TZID=America/New_York:20250411T130000
DTSTAMP:20260423T025010
CREATED:20250110T182622Z
LAST-MODIFIED:20250110T182622Z
UID:10000065-1744372800-1744376400@bbasdfl.org
SUMMARY:Pro Se Clinic
DESCRIPTION:Register HERE.
URL:https://bbasdfl.org/event/pro-se-clinic-16-3/
LOCATION:FL
CATEGORIES:MISC
END:VEVENT
BEGIN:VEVENT
DTSTART;TZID=America/New_York:20250410T180000
DTEND;TZID=America/New_York:20250410T200000
DTSTAMP:20260423T025010
CREATED:20250312T140129Z
LAST-MODIFIED:20250312T140237Z
UID:10000087-1744308000-1744315200@bbasdfl.org
SUMMARY:Happy Hour: A Conversation with Chief Compliance Officer Ali Moghaddam
DESCRIPTION:Join us for an insightful happy hour and discussion with Ali Moghaddam\, Chief Compliance Officer at City National Bank. \nAli will share valuable insights into the specific information required to ensure a smooth approval process\, explaining the reasons behind the requests and how understanding this process can lead to a more efficient and seamless experience when working with City National Bank—or any other financial institution. \nDon’t miss this opportunity to gain valuable knowledge\, ask questions\, and network with fellow bankruptcy attorneys.
URL:https://bbasdfl.org/event/navigating-the-compliance-process-a-conversation-with-chief-compliance-officer-ali-moghaddam/
LOCATION:City National\, 2855 S Le Jeune Rd\, Suite #100\, Coral Gables\, 33134\, United States
CATEGORIES:Happy Hour
ATTACH;FMTTYPE=image/png:https://bbasdfl.org/wp-content/uploads/2025/03/City-National-HH.png
ORGANIZER;CN="City National":MAILTO:info@citynational.com
END:VEVENT
BEGIN:VEVENT
DTSTART;TZID=America/New_York:20250408T110000
DTEND;TZID=America/New_York:20250408T120000
DTSTAMP:20260423T025010
CREATED:20250220T175857Z
LAST-MODIFIED:20250220T175857Z
UID:10000081-1744110000-1744113600@bbasdfl.org
SUMMARY:Arc Broward - BBA Financial Literacy presentation
DESCRIPTION:**Parking lot (free) in front of teaching location**\nLocated across the street from the railroad track in the same shopping center as Hart to Hart Dental\, right next to it. \nAll Financial Literacy resources and contact information can be found here.
URL:https://bbasdfl.org/event/arc-broward-bba-financial-literacy-presentation-3/
LOCATION:Arc Works\, 3415 N. Dixie Hwy.\, Oakland Park\, FL\, 33334\, United States
END:VEVENT
BEGIN:VEVENT
DTSTART;TZID=America/New_York:20250403T180000
DTEND;TZID=America/New_York:20250403T200000
DTSTAMP:20260423T025010
CREATED:20250310T184944Z
LAST-MODIFIED:20250310T185245Z
UID:10000085-1743703200-1743710400@bbasdfl.org
SUMMARY:BBA Happy Hour - YOLO Restaurant
DESCRIPTION:
URL:https://bbasdfl.org/event/bba-happy-hour-yolo-restaurant-4/
LOCATION:YOLO Restaurant\, 333 E Las Olas Blvd\, Fort Lauderdale\, FL\, 33301\, United States
CATEGORIES:Happy Hour
ATTACH;FMTTYPE=image/png:https://bbasdfl.org/wp-content/uploads/2025/03/2.png
END:VEVENT
BEGIN:VEVENT
DTSTART;TZID=America/New_York:20250324T123000
DTEND;TZID=America/New_York:20250324T133000
DTSTAMP:20260423T025010
CREATED:20250219T211520Z
LAST-MODIFIED:20250220T173543Z
UID:10000080-1742819400-1742823000@bbasdfl.org
SUMMARY:Broward College (South Campus) – BBA Financial Literacy presentation
DESCRIPTION:All Financial Literacy resources and contact information can be found here.
URL:https://bbasdfl.org/event/broward-college-bba-credit-score-presentations/
LOCATION:Broward College – South Campus\, 7200 Pines Blvd\, Pembroke Pines\, FL\, 33024\, United States
END:VEVENT
BEGIN:VEVENT
DTSTART;TZID=America/New_York:20250319T180000
DTEND;TZID=America/New_York:20250319T210000
DTSTAMP:20260423T025010
CREATED:20250303T204458Z
LAST-MODIFIED:20250307T191729Z
UID:10000084-1742407200-1742418000@bbasdfl.org
SUMMARY:Women of the BBA: Mini Golf at Puttery
DESCRIPTION:
URL:https://bbasdfl.org/event/women-of-the-bba-mini-golf-at-puttery/
LOCATION:Puttery\, 239 NW 28th St\, Miami\, FL\, 33127\, United States
CATEGORIES:MISC
ATTACH;FMTTYPE=image/png:https://bbasdfl.org/wp-content/uploads/2025/03/BBA-WHM-Mini-Golf-5.png
END:VEVENT
BEGIN:VEVENT
DTSTART;TZID=America/New_York:20250317T103000
DTEND;TZID=America/New_York:20250317T120000
DTSTAMP:20260423T025010
CREATED:20250204T145649Z
LAST-MODIFIED:20250220T173753Z
UID:10000077-1742207400-1742212800@bbasdfl.org
SUMMARY:McFatter Technical College – BBA Financial Literacy presentation
DESCRIPTION:Parking lot (free) accessible from Davie Rd. Use any open space that is not marked for\nfaculty. (Look for open spaces near the entrance to the parking lot.) \nAll Financial Literacy resources and contact information can be found here.
URL:https://bbasdfl.org/event/mcfatter-technical-college-bba-financial-literacy-presentation-3/
LOCATION:McFatter Technical College and High School\, 6500 Nova Dr.\, Davie\, FL\, 33317\, United States
END:VEVENT
BEGIN:VEVENT
DTSTART;TZID=America/New_York:20250314T120000
DTEND;TZID=America/New_York:20250314T130000
DTSTAMP:20260423T025010
CREATED:20250110T182514Z
LAST-MODIFIED:20250110T182514Z
UID:10000064-1741953600-1741957200@bbasdfl.org
SUMMARY:Pro Se Clinic
DESCRIPTION:Register HERE.
URL:https://bbasdfl.org/event/pro-se-clinic-16-2/
LOCATION:FL
CATEGORIES:MISC
END:VEVENT
END:VCALENDAR