BEGIN:VCALENDAR
VERSION:2.0
PRODID:-//The Bankruptcy Bar Association Southern District of Florida - ECPv6.15.20//NONSGML v1.0//EN
CALSCALE:GREGORIAN
METHOD:PUBLISH
X-WR-CALNAME:The Bankruptcy Bar Association Southern District of Florida
X-ORIGINAL-URL:https://bbasdfl.org
X-WR-CALDESC:Events for The Bankruptcy Bar Association Southern District of Florida
REFRESH-INTERVAL;VALUE=DURATION:PT1H
X-Robots-Tag:noindex
X-PUBLISHED-TTL:PT1H
BEGIN:VTIMEZONE
TZID:America/New_York
BEGIN:DAYLIGHT
TZOFFSETFROM:-0500
TZOFFSETTO:-0400
TZNAME:EDT
DTSTART:20240310T070000
END:DAYLIGHT
BEGIN:STANDARD
TZOFFSETFROM:-0400
TZOFFSETTO:-0500
TZNAME:EST
DTSTART:20241103T060000
END:STANDARD
BEGIN:DAYLIGHT
TZOFFSETFROM:-0500
TZOFFSETTO:-0400
TZNAME:EDT
DTSTART:20250309T070000
END:DAYLIGHT
BEGIN:STANDARD
TZOFFSETFROM:-0400
TZOFFSETTO:-0500
TZNAME:EST
DTSTART:20251102T060000
END:STANDARD
BEGIN:DAYLIGHT
TZOFFSETFROM:-0500
TZOFFSETTO:-0400
TZNAME:EDT
DTSTART:20260308T070000
END:DAYLIGHT
BEGIN:STANDARD
TZOFFSETFROM:-0400
TZOFFSETTO:-0500
TZNAME:EST
DTSTART:20261101T060000
END:STANDARD
BEGIN:DAYLIGHT
TZOFFSETFROM:-0500
TZOFFSETTO:-0400
TZNAME:EDT
DTSTART:20270314T070000
END:DAYLIGHT
BEGIN:STANDARD
TZOFFSETFROM:-0400
TZOFFSETTO:-0500
TZNAME:EST
DTSTART:20271107T060000
END:STANDARD
END:VTIMEZONE
BEGIN:VEVENT
DTSTART;TZID=America/New_York:20260911T120000
DTEND;TZID=America/New_York:20260911T130000
DTSTAMP:20260422T210405
CREATED:20260109T162913Z
LAST-MODIFIED:20260109T162913Z
UID:10000147-1789128000-1789131600@bbasdfl.org
SUMMARY:Pro Se Clinic (2nd Friday Monthly)
DESCRIPTION:Register HERE.
URL:https://bbasdfl.org/event/pro-se-clinic-2nd-friday-monthly/2026-09-11/
LOCATION:FL
END:VEVENT
BEGIN:VEVENT
DTSTART;TZID=America/New_York:20260814T120000
DTEND;TZID=America/New_York:20260814T130000
DTSTAMP:20260422T210406
CREATED:20260109T162913Z
LAST-MODIFIED:20260109T162913Z
UID:10000146-1786708800-1786712400@bbasdfl.org
SUMMARY:Pro Se Clinic (2nd Friday Monthly)
DESCRIPTION:Register HERE.
URL:https://bbasdfl.org/event/pro-se-clinic-2nd-friday-monthly/2026-08-14/
LOCATION:FL
END:VEVENT
BEGIN:VEVENT
DTSTART;TZID=America/New_York:20260710T120000
DTEND;TZID=America/New_York:20260710T130000
DTSTAMP:20260422T210406
CREATED:20260109T162913Z
LAST-MODIFIED:20260109T162913Z
UID:10000145-1783684800-1783688400@bbasdfl.org
SUMMARY:Pro Se Clinic (2nd Friday Monthly)
DESCRIPTION:Register HERE.
URL:https://bbasdfl.org/event/pro-se-clinic-2nd-friday-monthly/2026-07-10/
LOCATION:FL
END:VEVENT
BEGIN:VEVENT
DTSTART;TZID=America/New_York:20260612T120000
DTEND;TZID=America/New_York:20260612T130000
DTSTAMP:20260422T210406
CREATED:20260109T162913Z
LAST-MODIFIED:20260109T162913Z
UID:10000144-1781265600-1781269200@bbasdfl.org
SUMMARY:Pro Se Clinic (2nd Friday Monthly)
DESCRIPTION:Register HERE.
URL:https://bbasdfl.org/event/pro-se-clinic-2nd-friday-monthly/2026-06-12/
LOCATION:FL
END:VEVENT
BEGIN:VEVENT
DTSTART;VALUE=DATE:20260528
DTEND;VALUE=DATE:20260601
DTSTAMP:20260422T210406
CREATED:20260122T192130Z
LAST-MODIFIED:20260309T170056Z
UID:10000154-1779926400-1780271999@bbasdfl.org
SUMMARY:2026 BBA Annual Retreat
DESCRIPTION:2026 42nd Annual BBA Retreat\nJW Marriott Marco Island Beach Resort\nThursday\, May 28 – Sunday\, May 31\, 2026\nAttire: Resort Chic \nRetreat Website sponsored by:\n\n \n  \n \n\nRetreat Agenda (Coming Soon)\nVisiting Judges (Coming Soon)\nCLE Problems (Dropbox Link Coming Soon)\n\nAdditional Details: \n\nAfter you complete your registration\, book your hotel room here.\nFor questions on billing/booking needs\, please reach out to Group Housing Billing Coordinator Sarah Middleton\, sarah.middleton@marriott.com.\nGolf at The Rookery or Hammock Bay:\nFor those interested in golf\, please reach out to Brandon Rowcliffe\, our Group Golf Coordinator\, at brandon.rowcliffe@marriott.com.\nSpecial Offer for BBA Attendees: Enjoy a 20% discount on both group and individual golf play.\nSpa Services:\nPamper yourself at the spa with the help of Nicole Braunstein\, Spa Manager\, at nicole.braunstein@marriott.com.\nBBA Attendees Receive: A 10% discount on all spa services.\nRecreation & Activities:\nFor beach activities\, cabanas\, chickee hut reservations\, premium pool chair seating\, sailboat rentals\, or children’s activities\, please contact Chris Mendicino\, Recreation Coordinator\, at chris.mendicino@marriott.com.\nIf you are bringing children: The Tiki Time Day Camp invites kids to become wildlife explorers in a small\, nurturing day camp setting. Learn more here.\nParking Discounts:\nOvernight guests can enjoy discounted self-parking at $15.00 per night.\nValet parking is available at a discounted rate of $35.00 for both overnight and day guests.\nResort Map\n\n 
URL:https://bbasdfl.org/event/2026-bba-annual-retreat/
LOCATION:JW Marriott Marco Island Beach Resort\, 400 S. Collier Blvd\, Marco Island\, FL\, 34145\, United States
CATEGORIES:MISC
END:VEVENT
BEGIN:VEVENT
DTSTART;TZID=America/New_York:20260521T080000
DTEND;TZID=America/New_York:20260521T100000
DTSTAMP:20260422T210406
CREATED:20251020T183913Z
LAST-MODIFIED:20260402T153431Z
UID:10000104-1779350400-1779357600@bbasdfl.org
SUMMARY:BBA Wellness Event
DESCRIPTION:Exact event time to be determined closer to.
URL:https://bbasdfl.org/event/bba-wellness-event/
LOCATION:FL
CATEGORIES:Happy Hour
END:VEVENT
BEGIN:VEVENT
DTSTART;TZID=America/New_York:20260514T173000
DTEND;TZID=America/New_York:20260514T200000
DTSTAMP:20260422T210406
CREATED:20260408T181309Z
LAST-MODIFIED:20260409T154812Z
UID:10000160-1778779800-1778788800@bbasdfl.org
SUMMARY:BBA Happy Hour at Kapow Noodle Bar
DESCRIPTION:
URL:https://bbasdfl.org/event/bba-happy-hour-at-kapow-noodle-bar/
LOCATION:Kapow Noodle Bar – Boca Raton\, 402 PLAZA REAL\, Boca Raton\, FL\, 33432\, United States
CATEGORIES:Happy Hour
ATTACH;FMTTYPE=image/png:https://bbasdfl.org/wp-content/uploads/2026/04/Happy-Hour-5.14.2026.png
END:VEVENT
BEGIN:VEVENT
DTSTART;TZID=America/New_York:20260508T120000
DTEND;TZID=America/New_York:20260508T130000
DTSTAMP:20260422T210406
CREATED:20260109T162913Z
LAST-MODIFIED:20260109T162913Z
UID:10000143-1778241600-1778245200@bbasdfl.org
SUMMARY:Pro Se Clinic (2nd Friday Monthly)
DESCRIPTION:Register HERE.
URL:https://bbasdfl.org/event/pro-se-clinic-2nd-friday-monthly/2026-05-08/
LOCATION:FL
END:VEVENT
BEGIN:VEVENT
DTSTART;TZID=America/New_York:20260507T183000
DTEND;TZID=America/New_York:20260507T203000
DTSTAMP:20260422T210406
CREATED:20260416T192643Z
LAST-MODIFIED:20260416T192643Z
UID:10000161-1778178600-1778185800@bbasdfl.org
SUMMARY:Women of BBA + IWIRC: Axe Throwing
DESCRIPTION:
URL:https://bbasdfl.org/event/women-of-bba-iwirc-axe-throwing/
LOCATION:Extreme Axe Throwing – Hollywood\, 2046 Hollywood Blvd\, Hollywood\, FL\, 33020\, United States
CATEGORIES:MISC
ATTACH;FMTTYPE=image/png:https://bbasdfl.org/wp-content/uploads/2026/04/Women-of-BBA-IWIRC-5.7.2026-2.png
END:VEVENT
BEGIN:VEVENT
DTSTART;TZID=America/New_York:20260430T180000
DTEND;TZID=America/New_York:20260430T200000
DTSTAMP:20260422T210406
CREATED:20251017T204038Z
LAST-MODIFIED:20260409T154602Z
UID:10000103-1777572000-1777579200@bbasdfl.org
SUMMARY:BBA Happy Hour at Boulud Sud
DESCRIPTION:
URL:https://bbasdfl.org/event/bba-happy-hour-4/
LOCATION:Boulud Sud Miami\, 255 Biscayne Blvd Way\, Miami\, FL\, 33131\, United States
CATEGORIES:Happy Hour
ATTACH;FMTTYPE=image/png:https://bbasdfl.org/wp-content/uploads/2025/10/Happy-Hour-4.30.2026.png
END:VEVENT
BEGIN:VEVENT
DTSTART;TZID=America/New_York:20260429T120000
DTEND;TZID=America/New_York:20260429T130000
DTSTAMP:20260422T210406
CREATED:20260330T205139Z
LAST-MODIFIED:20260330T210208Z
UID:10000158-1777464000-1777467600@bbasdfl.org
SUMMARY:BBA Brown Bag: Bankruptcy & Ethics
DESCRIPTION:This hybrid event will be held live in Judge Mark’s courtroom.\nIf you are attending virtually\, please register here: https://www.zoomgov.com/meeting/register/wQz_zKXRSxOt8_oJXmj8BQ\nIf you are attending in person\, please select the In-Person Registration option from the tickets below.
URL:https://bbasdfl.org/event/bba-brown-bag-ethics/
LOCATION:United States Bankruptcy Court\, C. Clyde Atkins United States Courthouse\, 301 N. Miami Avenue\, Miami\, FL\, 33128\, United States
CATEGORIES:Webinar
ATTACH;FMTTYPE=image/png:https://bbasdfl.org/wp-content/uploads/2026/03/Brown-Bag-4.29.2026-Website-Email.png
END:VEVENT
BEGIN:VEVENT
DTSTART;TZID=America/New_York:20260414T180000
DTEND;TZID=America/New_York:20260414T200000
DTSTAMP:20260422T210406
CREATED:20260326T185916Z
LAST-MODIFIED:20260326T190355Z
UID:10000159-1776189600-1776196800@bbasdfl.org
SUMMARY:BBA Happy Hour at The River Oyster Bar
DESCRIPTION:
URL:https://bbasdfl.org/event/bba-happy-hour-river-oyster-bar/
LOCATION:The River Oyster Bar\, 33 SE 7th St Suite 100\, Miami\, 33131\, United States
CATEGORIES:Happy Hour
ATTACH;FMTTYPE=image/png:https://bbasdfl.org/wp-content/uploads/2026/03/Hour-Hour-4.14.2026.png
END:VEVENT
BEGIN:VEVENT
DTSTART;TZID=America/New_York:20260410T120000
DTEND;TZID=America/New_York:20260410T130000
DTSTAMP:20260422T210406
CREATED:20260109T162913Z
LAST-MODIFIED:20260109T162913Z
UID:10000142-1775822400-1775826000@bbasdfl.org
SUMMARY:Pro Se Clinic (2nd Friday Monthly)
DESCRIPTION:Register HERE.
URL:https://bbasdfl.org/event/pro-se-clinic-2nd-friday-monthly/2026-04-10/
LOCATION:FL
END:VEVENT
BEGIN:VEVENT
DTSTART;TZID=America/New_York:20260326T173000
DTEND;TZID=America/New_York:20260326T200000
DTSTAMP:20260422T210406
CREATED:20260128T182521Z
LAST-MODIFIED:20260324T154651Z
UID:10000156-1774546200-1774555200@bbasdfl.org
SUMMARY:BBA Wellness Event
DESCRIPTION:
URL:https://bbasdfl.org/event/bba-wellness-event-2/
LOCATION:IDX Studios\, 3850 N 29th Terrace\, Suite 107\, Hollywood\, FL\, 33020\, United States
CATEGORIES:Happy Hour
ATTACH;FMTTYPE=image/png:https://bbasdfl.org/wp-content/uploads/2026/01/Wellness-Event-3.26.2026_v3.png
END:VEVENT
BEGIN:VEVENT
DTSTART;TZID=America/New_York:20260313T120000
DTEND;TZID=America/New_York:20260313T130000
DTSTAMP:20260422T210406
CREATED:20260109T162913Z
LAST-MODIFIED:20260109T162913Z
UID:10000141-1773403200-1773406800@bbasdfl.org
SUMMARY:Pro Se Clinic (2nd Friday Monthly)
DESCRIPTION:Register HERE.
URL:https://bbasdfl.org/event/pro-se-clinic-2nd-friday-monthly/2026-03-13/
LOCATION:FL
END:VEVENT
BEGIN:VEVENT
DTSTART;TZID=America/New_York:20260310T180000
DTEND;TZID=America/New_York:20260310T190000
DTSTAMP:20260422T210406
CREATED:20260302T182912Z
LAST-MODIFIED:20260302T182912Z
UID:10000157-1773165600-1773169200@bbasdfl.org
SUMMARY:Casa Valentina - BBA Financial Literacy presentation
DESCRIPTION:
URL:https://bbasdfl.org/event/casavalentina2026/
LOCATION:Casa Valentina\, 3153 Mundy Street\, Miami\, FL\, 33133\, United States
END:VEVENT
BEGIN:VEVENT
DTSTART;TZID=America/New_York:20260309T180000
DTEND;TZID=America/New_York:20260309T200000
DTSTAMP:20260422T210406
CREATED:20260128T181926Z
LAST-MODIFIED:20260206T214030Z
UID:10000155-1773079200-1773086400@bbasdfl.org
SUMMARY:BBA Happy Hour at Ball & Chain
DESCRIPTION:
URL:https://bbasdfl.org/event/bba-happy-hour/
LOCATION:Ball & Chain\, 1513 SW 8th St\, Miami\, FL\, 33135\, United States
CATEGORIES:Happy Hour
ATTACH;FMTTYPE=image/png:https://bbasdfl.org/wp-content/uploads/2026/01/Hour-Hour-3.9.2026.png
END:VEVENT
BEGIN:VEVENT
DTSTART;TZID=America/New_York:20260226T173000
DTEND;TZID=America/New_York:20260226T193000
DTSTAMP:20260422T210406
CREATED:20251017T204005Z
LAST-MODIFIED:20260128T161654Z
UID:10000102-1772127000-1772134200@bbasdfl.org
SUMMARY:BBA Happy Hour at YOLO
DESCRIPTION:
URL:https://bbasdfl.org/event/bba-happy-hour-3/
LOCATION:YOLO Restaurant\, 333 E Las Olas Blvd\, Fort Lauderdale\, FL\, 33301\, United States
CATEGORIES:Happy Hour
ATTACH;FMTTYPE=image/png:https://bbasdfl.org/wp-content/uploads/2025/10/Hour-Hour-2.26.2026-web-social-email.png
END:VEVENT
BEGIN:VEVENT
DTSTART;TZID=America/New_York:20260219T120000
DTEND;TZID=America/New_York:20260219T130000
DTSTAMP:20260422T210406
CREATED:20260112T181144Z
LAST-MODIFIED:20260113T222400Z
UID:10000153-1771502400-1771506000@bbasdfl.org
SUMMARY:BBA Brown Bag: Best Practices in Cash Collateral and DIP Financing
DESCRIPTION:Register here: https://us06web.zoom.us/webinar/register/WN_OUx1slIwSSWrsQrSHLKk1g
URL:https://bbasdfl.org/event/bba-brown-bag-best-practices-in-cash-collateral-and-dip-financing/
LOCATION:FL
CATEGORIES:Webinar
ATTACH;FMTTYPE=image/png:https://bbasdfl.org/wp-content/uploads/2026/01/Brown-Bag-2.19.2026-web-social-1.png
END:VEVENT
BEGIN:VEVENT
DTSTART;TZID=America/New_York:20260213T120000
DTEND;TZID=America/New_York:20260213T130000
DTSTAMP:20260422T210406
CREATED:20260109T162913Z
LAST-MODIFIED:20260109T162913Z
UID:10000140-1770984000-1770987600@bbasdfl.org
SUMMARY:Pro Se Clinic (2nd Friday Monthly)
DESCRIPTION:Register HERE.
URL:https://bbasdfl.org/event/pro-se-clinic-2nd-friday-monthly/2026-02-13/
LOCATION:FL
END:VEVENT
BEGIN:VEVENT
DTSTART;TZID=America/New_York:20260206T080000
DTEND;TZID=America/New_York:20260206T100000
DTSTAMP:20260422T210406
CREATED:20251017T203808Z
LAST-MODIFIED:20260128T150331Z
UID:10000101-1770364800-1770372000@bbasdfl.org
SUMMARY:BBA Caffeine & Machines
DESCRIPTION:
URL:https://bbasdfl.org/event/bba-caffeine-machines/
LOCATION:Imperial Moto Café\, 2091 E Oakland Park Blvd\, Oakland Park\, FL\, 33306\, United States
ATTACH;FMTTYPE=image/png:https://bbasdfl.org/wp-content/uploads/2025/10/Caffeine-Machines-2.6.2026-1600x900-2.png
END:VEVENT
BEGIN:VEVENT
DTSTART;TZID=America/New_York:20260204T103000
DTEND;TZID=America/New_York:20260204T113000
DTSTAMP:20260422T210406
CREATED:20251202T160104Z
LAST-MODIFIED:20251202T160104Z
UID:10000136-1770201000-1770204600@bbasdfl.org
SUMMARY:Arc Broward – BBA Financial Literacy presentation
DESCRIPTION:
URL:https://bbasdfl.org/event/arc-broward-bba-financial-literacy-presentation-6/
LOCATION:Arc Broward\, 10250 NW 53rd St\, Sunrise\, FL\, 33351\, United States
END:VEVENT
BEGIN:VEVENT
DTSTART;TZID=America/New_York:20260115T180000
DTEND;TZID=America/New_York:20260115T200000
DTSTAMP:20260422T210406
CREATED:20251017T203524Z
LAST-MODIFIED:20251215T211503Z
UID:10000100-1768500000-1768507200@bbasdfl.org
SUMMARY:BBA Happy Hour
DESCRIPTION:
URL:https://bbasdfl.org/event/bba-happy-hour-2/
LOCATION:Timpano Las Olas\, 450 E. Las Olas Blvd.\, Fort Lauderdale\, FL\, 33301\, United States
CATEGORIES:Happy Hour
ATTACH;FMTTYPE=image/png:https://bbasdfl.org/wp-content/uploads/2025/10/Hour-Hour-1.15.2026-1600x900-1.png
END:VEVENT
BEGIN:VEVENT
DTSTART;TZID=America/New_York:20260115T110000
DTEND;TZID=America/New_York:20260115T120000
DTSTAMP:20260422T210406
CREATED:20251202T155955Z
LAST-MODIFIED:20251202T155955Z
UID:10000135-1768474800-1768478400@bbasdfl.org
SUMMARY:Arc Broward – BBA Financial Literacy presentation
DESCRIPTION:
URL:https://bbasdfl.org/event/arc-broward-bba-financial-literacy-presentation-5/
LOCATION:Arc Broward\, 10250 NW 53rd St\, Sunrise\, FL\, 33351\, United States
END:VEVENT
BEGIN:VEVENT
DTSTART;TZID=America/New_York:20260109T120000
DTEND;TZID=America/New_York:20260109T130000
DTSTAMP:20260422T210406
CREATED:20251114T172407Z
LAST-MODIFIED:20260109T162627Z
UID:10000112-1767960000-1767963600@bbasdfl.org
SUMMARY:Pro Se Clinic
DESCRIPTION:Register HERE.
URL:https://bbasdfl.org/event/pro-se-clinic-16-4/2026-01-09/
LOCATION:FL
CATEGORIES:MISC
END:VEVENT
BEGIN:VEVENT
DTSTART;TZID=America/New_York:20260109T120000
DTEND;TZID=America/New_York:20260109T130000
DTSTAMP:20260422T210406
CREATED:20250110T182403Z
LAST-MODIFIED:20260109T162023Z
UID:10000139-1767960000-1767963600@bbasdfl.org
SUMMARY:Pro Se Clinic
DESCRIPTION:Register HERE.
URL:https://bbasdfl.org/event/pro-se-clinic-16/2026-01-09/
LOCATION:FL
CATEGORIES:MISC
END:VEVENT
BEGIN:VEVENT
DTSTART;TZID=America/New_York:20251218T170000
DTEND;TZID=America/New_York:20251218T190000
DTSTAMP:20260422T210406
CREATED:20251017T203320Z
LAST-MODIFIED:20251218T161333Z
UID:10000098-1766077200-1766084400@bbasdfl.org
SUMMARY:BBA Holiday Party
DESCRIPTION:Cancellation requests must be submitted by email to bbateam@bbasdfl.org. Refunds will be provided for cancellations submitted on or before December 11\, 2025. 
URL:https://bbasdfl.org/event/bba-holiday-party/
LOCATION:The Main Las Olas\, 201 E Las Olas Blvd\, Fort Lauderdale\, FL\, 33301\, United States
ATTACH;FMTTYPE=image/png:https://bbasdfl.org/wp-content/uploads/2025/10/2025-Holiday-Party-Toy-Drive_WEBv2-scaled.png
END:VEVENT
BEGIN:VEVENT
DTSTART;TZID=America/New_York:20251216T120000
DTEND;TZID=America/New_York:20251216T130000
DTSTAMP:20260422T210406
CREATED:20251017T180615Z
LAST-MODIFIED:20251113T192014Z
UID:10000097-1765886400-1765890000@bbasdfl.org
SUMMARY:BBA Brown Bag: Assignments for the Benefit of Creditors (ABC)
DESCRIPTION:Register here: https://us06web.zoom.us/webinar/register/WN_r_pUhOWVQpKT_SLPwv1yjw
URL:https://bbasdfl.org/event/bba-brown-bag-assignments-for-the-benefit-of-creditors-abc/
LOCATION:FL
CATEGORIES:Webinar
ATTACH;FMTTYPE=image/png:https://bbasdfl.org/wp-content/uploads/2025/10/Brown-Bag-12.16.2025-Web-Social.png
END:VEVENT
BEGIN:VEVENT
DTSTART;TZID=America/New_York:20251212T120000
DTEND;TZID=America/New_York:20251212T130000
DTSTAMP:20260422T210406
CREATED:20251114T172407Z
LAST-MODIFIED:20260109T162627Z
UID:10000073-1765540800-1765544400@bbasdfl.org
SUMMARY:Pro Se Clinic
DESCRIPTION:Register HERE.
URL:https://bbasdfl.org/event/pro-se-clinic-16-4/2025-12-12/
LOCATION:FL
CATEGORIES:MISC
END:VEVENT
BEGIN:VEVENT
DTSTART;TZID=America/New_York:20251212T120000
DTEND;TZID=America/New_York:20251212T130000
DTSTAMP:20260422T210406
CREATED:20250110T182403Z
LAST-MODIFIED:20260109T162023Z
UID:10000138-1765540800-1765544400@bbasdfl.org
SUMMARY:Pro Se Clinic
DESCRIPTION:Register HERE.
URL:https://bbasdfl.org/event/pro-se-clinic-16/2025-12-12/
LOCATION:FL
CATEGORIES:MISC
END:VEVENT
END:VCALENDAR